BEGIN:VCALENDAR
VERSION:2.0
PRODID:icalendar-ruby
CALSCALE:GREGORIAN
METHOD:PUBLISH
BEGIN:VEVENT
DTSTAMP:20260422T142137Z
UID:39-421266@ntxcoc.com
DTSTART:20260426T213000Z
DTEND:20260427T003000Z
CLASS:PUBLIC
CREATED:20260413T095300
DESCRIPTION:Parent permission is required as adult volunteers will be drivi
 ng teams.  
LAST-MODIFIED:20260413T095300
LOCATION:1290 FM 407\, Northlake\, Tx.
SUMMARY:Seek & Serve Scavenger Hunt
URL;VALUE=URI:https://www.ntxcoc.com/events/seek-serve-scavenger-hunt/2026-
 04-26
ATTACH;FILENAME=Youth Scavenger Hunt.jpg;FMTTYPE=image/jpeg:https://dq5pwpg
 1q8ru0.cloudfront.net/2026/04/13/14/51/50/bfe10839-c72d-4995-a9d7-66c5a977
 e49c/Youth%20Scavenger%20Hunt.jpg
END:VEVENT
END:VCALENDAR
